BEGIN:VCALENDAR
VERSION:2.0
PRODID:-//Bernie Maisberger - ECPv5.14.1//NONSGML v1.0//EN
CALSCALE:GREGORIAN
METHOD:PUBLISH
X-WR-CALNAME:Bernie Maisberger
X-ORIGINAL-URL:http://berniemai.de
X-WR-CALDESC:Veranstaltungen für Bernie Maisberger
REFRESH-INTERVAL;VALUE=DURATION:PT1H
X-Robots-Tag:noindex
X-PUBLISHED-TTL:PT1H
BEGIN:VTIMEZONE
TZID:Europe/Berlin
BEGIN:DAYLIGHT
TZOFFSETFROM:+0100
TZOFFSETTO:+0200
TZNAME:CEST
DTSTART:20240331T010000
END:DAYLIGHT
BEGIN:STANDARD
TZOFFSETFROM:+0200
TZOFFSETTO:+0100
TZNAME:CET
DTSTART:20241027T010000
END:STANDARD
END:VTIMEZONE
BEGIN:VEVENT
DTSTART;TZID=Europe/Berlin:20240512T180000
DTEND;TZID=Europe/Berlin:20240512T210000
DTSTAMP:20260422T172001
CREATED:20240213T170003Z
LAST-MODIFIED:20240213T170003Z
UID:783-1715536800-1715547600@berniemai.de
SUMMARY:Bernie :: Clownvorstellung
DESCRIPTION:Kunst des Stolperns – Schule für Clowns\nMajor-Braun-Weg 12\n85354 Freising
URL:http://berniemai.de/event/bernie-clownvorstellung/
END:VEVENT
BEGIN:VEVENT
DTSTART;TZID=Europe/Berlin:20240523T193000
DTEND;TZID=Europe/Berlin:20240523T220000
DTSTAMP:20260422T172001
CREATED:20240213T165133Z
LAST-MODIFIED:20240213T165133Z
UID:781-1716492600-1716501600@berniemai.de
SUMMARY:Bernie & OM :: Wirtshaus Taglaching
DESCRIPTION:Anfahrt: https://www.wirtshaus-taglaching.de/anfahrt
URL:http://berniemai.de/event/bernie-om-wirtshaus-taglaching/
END:VEVENT
BEGIN:VEVENT
DTSTART;TZID=Europe/Berlin:20240524T180000
DTEND;TZID=Europe/Berlin:20240524T220000
DTSTAMP:20260422T172001
CREATED:20240513T171333Z
LAST-MODIFIED:20240513T171348Z
UID:832-1716573600-1716588000@berniemai.de
SUMMARY:Bernie & OM :: Geretsried
DESCRIPTION:Infos folgen\,
URL:http://berniemai.de/event/bernie-om-geretsried/
END:VEVENT
BEGIN:VEVENT
DTSTART;TZID=Europe/Berlin:20240530T193000
DTEND;TZID=Europe/Berlin:20240530T223000
DTSTAMP:20260422T172001
CREATED:20231116T123000Z
LAST-MODIFIED:20231116T123017Z
UID:731-1717097400-1717108200@berniemai.de
SUMMARY:Bernie & IRXN :: Ortenburger Ritterspiele
DESCRIPTION:
URL:http://berniemai.de/event/bernie-irxn-ortenburger-ritterspiele-2/
END:VEVENT
END:VCALENDAR