BEGIN:VCALENDAR
VERSION:2.0
PRODID:-//Bernie Maisberger - ECPv5.14.1//NONSGML v1.0//EN
CALSCALE:GREGORIAN
METHOD:PUBLISH
X-WR-CALNAME:Bernie Maisberger
X-ORIGINAL-URL:http://berniemai.de
X-WR-CALDESC:Veranstaltungen für Bernie Maisberger
REFRESH-INTERVAL;VALUE=DURATION:PT1H
X-Robots-Tag:noindex
X-PUBLISHED-TTL:PT1H
BEGIN:VTIMEZONE
TZID:Europe/Berlin
BEGIN:DAYLIGHT
TZOFFSETFROM:+0100
TZOFFSETTO:+0200
TZNAME:CEST
DTSTART:20230326T010000
END:DAYLIGHT
BEGIN:STANDARD
TZOFFSETFROM:+0200
TZOFFSETTO:+0100
TZNAME:CET
DTSTART:20231029T010000
END:STANDARD
END:VTIMEZONE
BEGIN:VEVENT
DTSTART;TZID=Europe/Berlin:20230724T180000
DTEND;TZID=Europe/Berlin:20230724T223000
DTSTAMP:20260423T081843
CREATED:20230309T123850Z
LAST-MODIFIED:20230606T131702Z
UID:633-1690221600-1690237800@berniemai.de
SUMMARY:Bernie Solo :: Schwabinger Schaumschläger
DESCRIPTION:Vereinsheim\nOccamstr. 8\n80802 München (Schwabing)
URL:http://berniemai.de/event/bernie-solo-schwabinger-schaumschlaeger/
END:VEVENT
BEGIN:VEVENT
DTSTART;TZID=Europe/Berlin:20230729T210000
DTEND;TZID=Europe/Berlin:20230729T233000
DTSTAMP:20260423T081843
CREATED:20221028T141359Z
LAST-MODIFIED:20221028T141410Z
UID:562-1690664400-1690673400@berniemai.de
SUMMARY:Bernie & IRXN :: Sinnflut Erding
DESCRIPTION:Erding: Sinnflut-Festival \n\n\n\n\nFestplatz Erding\nAm Stadion\n85435 Erding
URL:http://berniemai.de/event/bernie-irxn-3/
END:VEVENT
END:VCALENDAR