BEGIN:VCALENDAR
VERSION:2.0
PRODID:-//Bernie Maisberger - ECPv5.14.1//NONSGML v1.0//EN
CALSCALE:GREGORIAN
METHOD:PUBLISH
X-WR-CALNAME:Bernie Maisberger
X-ORIGINAL-URL:http://berniemai.de
X-WR-CALDESC:Veranstaltungen für Bernie Maisberger
REFRESH-INTERVAL;VALUE=DURATION:PT1H
X-Robots-Tag:noindex
X-PUBLISHED-TTL:PT1H
BEGIN:VTIMEZONE
TZID:Europe/Berlin
BEGIN:DAYLIGHT
TZOFFSETFROM:+0100
TZOFFSETTO:+0200
TZNAME:CEST
DTSTART:20230326T010000
END:DAYLIGHT
BEGIN:STANDARD
TZOFFSETFROM:+0200
TZOFFSETTO:+0100
TZNAME:CET
DTSTART:20231029T010000
END:STANDARD
END:VTIMEZONE
BEGIN:VEVENT
DTSTART;TZID=Europe/Berlin:20230602T180000
DTEND;TZID=Europe/Berlin:20230602T200000
DTSTAMP:20260423T100210
CREATED:20230322T072708Z
LAST-MODIFIED:20230322T072708Z
UID:649-1685728800-1685736000@berniemai.de
SUMMARY:Bernie & IRXN :: Inning Privatkonzert
DESCRIPTION:
URL:http://berniemai.de/event/bernie-irxn-inning-privatkonzert/
END:VEVENT
BEGIN:VEVENT
DTSTART;TZID=Europe/Berlin:20230608T180000
DTEND;TZID=Europe/Berlin:20230608T200000
DTSTAMP:20260423T100210
CREATED:20230605T093238Z
LAST-MODIFIED:20230605T093320Z
UID:674-1686247200-1686254400@berniemai.de
SUMMARY:Bernie & IRXN :: Ortenburger Ritterspiele
DESCRIPTION:Ortenburger Ritterspiele·Göbertsham 11·D-94496 Ortenburg
URL:http://berniemai.de/event/bernie-irxn-ortenburger-ritterspiele/
END:VEVENT
BEGIN:VEVENT
DTSTART;TZID=Europe/Berlin:20230615T140000
DTEND;TZID=Europe/Berlin:20230615T180000
DTSTAMP:20260423T100210
CREATED:20230117T142405Z
LAST-MODIFIED:20230117T142541Z
UID:609-1686837600-1686852000@berniemai.de
SUMMARY:Bernie & OM :: Hirschau
DESCRIPTION:  \nhttps://www.hirschau-muenchen.de/ \nIm Biergarten Hirschau/München \nAnreise: https://static1.squarespace.com/static/5f351706fed0d46bc5f025df/t/60fa9b8d06e19a38b9c6bec1/1627036558723/Anfahrt.pdf \n 
URL:http://berniemai.de/event/bernie-om-2/
END:VEVENT
BEGIN:VEVENT
DTSTART;TZID=Europe/Berlin:20230618T170000
DTEND;TZID=Europe/Berlin:20230618T213000
DTSTAMP:20260423T100210
CREATED:20230418T134131Z
LAST-MODIFIED:20230503T184350Z
UID:664-1687107600-1687123800@berniemai.de
SUMMARY:Bernie & OM :: Obermenzinger Dorffest
DESCRIPTION:https://blutenburgverein.de/obermenzinger-dorffest
URL:http://berniemai.de/event/bernie-om-obermenzinger-dorffest/
END:VEVENT
BEGIN:VEVENT
DTSTART;TZID=Europe/Berlin:20230623T200000
DTEND;TZID=Europe/Berlin:20230623T223000
DTSTAMP:20260423T100210
CREATED:20230606T130246Z
LAST-MODIFIED:20230606T130318Z
UID:679-1687550400-1687559400@berniemai.de
SUMMARY:Bernie & IRXN :: Scharnitz\, Alte Mühle
DESCRIPTION:
URL:http://berniemai.de/event/bernie-irxn-scharnitz-alte-muehle/
END:VEVENT
BEGIN:VEVENT
DTSTART;TZID=Europe/Berlin:20230624T193000
DTEND;TZID=Europe/Berlin:20230624T233000
DTSTAMP:20260423T100210
CREATED:20230321T165247Z
LAST-MODIFIED:20230606T130826Z
UID:643-1687635000-1687649400@berniemai.de
SUMMARY:Bernie & IRXN :: Interim München
DESCRIPTION:Doppelkonzert zusammen mit Tibetrea \nAm Laimer Anger 2\n80687 München-Laim
URL:http://berniemai.de/event/bernie-irxn-interims-muenchen-2/
END:VEVENT
END:VCALENDAR