BEGIN:VCALENDAR
VERSION:2.0
PRODID:-//Bernie Maisberger - ECPv5.14.1//NONSGML v1.0//EN
CALSCALE:GREGORIAN
METHOD:PUBLISH
X-WR-CALNAME:Bernie Maisberger
X-ORIGINAL-URL:http://berniemai.de
X-WR-CALDESC:Veranstaltungen für Bernie Maisberger
REFRESH-INTERVAL;VALUE=DURATION:PT1H
X-Robots-Tag:noindex
X-PUBLISHED-TTL:PT1H
BEGIN:VTIMEZONE
TZID:Europe/Berlin
BEGIN:DAYLIGHT
TZOFFSETFROM:+0100
TZOFFSETTO:+0200
TZNAME:CEST
DTSTART:20220327T010000
END:DAYLIGHT
BEGIN:STANDARD
TZOFFSETFROM:+0200
TZOFFSETTO:+0100
TZNAME:CET
DTSTART:20221030T010000
END:STANDARD
END:VTIMEZONE
BEGIN:VEVENT
DTSTART;TZID=Europe/Berlin:20221213T180000
DTEND;TZID=Europe/Berlin:20221213T190000
DTSTAMP:20260423T193016
CREATED:20220912T092414Z
LAST-MODIFIED:20220912T092414Z
UID:544-1670954400-1670958000@berniemai.de
SUMMARY:Bernie & OM :: Tollwood
DESCRIPTION:Infos folgen noch!
URL:http://berniemai.de/event/bernie-om-tollwood/
END:VEVENT
BEGIN:VEVENT
DTSTART;TZID=Europe/Berlin:20221217T170000
DTEND;TZID=Europe/Berlin:20221217T190000
DTSTAMP:20260423T193016
CREATED:20221214T124522Z
LAST-MODIFIED:20221214T124522Z
UID:587-1671296400-1671303600@berniemai.de
SUMMARY:Bernie & Wiggal :: Neuried Christkindlmarkt
DESCRIPTION:Direkt am alten Rathaus
URL:http://berniemai.de/event/bernie-wiggal-neuried-christkindlmarkt/
END:VEVENT
END:VCALENDAR