BEGIN:VCALENDAR
VERSION:2.0
PRODID:-//Bernie Maisberger - ECPv5.14.1//NONSGML v1.0//EN
CALSCALE:GREGORIAN
METHOD:PUBLISH
X-WR-CALNAME:Bernie Maisberger
X-ORIGINAL-URL:http://berniemai.de
X-WR-CALDESC:Veranstaltungen für Bernie Maisberger
REFRESH-INTERVAL;VALUE=DURATION:PT1H
X-Robots-Tag:noindex
X-PUBLISHED-TTL:PT1H
BEGIN:VTIMEZONE
TZID:Europe/Berlin
BEGIN:DAYLIGHT
TZOFFSETFROM:+0100
TZOFFSETTO:+0200
TZNAME:CEST
DTSTART:20220327T010000
END:DAYLIGHT
BEGIN:STANDARD
TZOFFSETFROM:+0200
TZOFFSETTO:+0100
TZNAME:CET
DTSTART:20221030T010000
END:STANDARD
END:VTIMEZONE
BEGIN:VEVENT
DTSTART;TZID=Europe/Berlin:20221001T193000
DTEND;TZID=Europe/Berlin:20221001T233000
DTSTAMP:20260423T222741
CREATED:20220405T153822Z
LAST-MODIFIED:20220405T204518Z
UID:155-1664652600-1664667000@berniemai.de
SUMMARY:Bernie mit IRXN :: Oederan Geschlossene Veranstaltung
DESCRIPTION:Private Veranstaltung – nur geladene Gäste
URL:http://berniemai.de/event/bernie-mit-irxn-oederan-geschlossene-veranstaltung/
END:VEVENT
BEGIN:VEVENT
DTSTART;TZID=Europe/Berlin:20221007T180000
DTEND;TZID=Europe/Berlin:20221007T193000
DTSTAMP:20260423T222741
CREATED:20220912T092638Z
LAST-MODIFIED:20220912T092638Z
UID:546-1665165600-1665171000@berniemai.de
SUMMARY:Bernie & IRXN :: Weimarer Zwiebelmarkt
DESCRIPTION:Historischer Markt – Bühne Herderplatz\n99423 Weimar
URL:http://berniemai.de/event/bernie-irxn-weimarer-zwiebelmarkt/
END:VEVENT
BEGIN:VEVENT
DTSTART;TZID=Europe/Berlin:20221008T180000
DTEND;TZID=Europe/Berlin:20221008T193000
DTSTAMP:20260423T222741
CREATED:20220912T092717Z
LAST-MODIFIED:20220912T092717Z
UID:548-1665252000-1665257400@berniemai.de
SUMMARY:Bernie & IRXN
DESCRIPTION:Historischer Markt – Bühne Herderplatz\n99423 Weimar
URL:http://berniemai.de/event/bernie-irxn/
END:VEVENT
BEGIN:VEVENT
DTSTART;TZID=Europe/Berlin:20221031T190000
DTEND;TZID=Europe/Berlin:20221031T223000
DTSTAMP:20260423T222741
CREATED:20221028T133238Z
LAST-MODIFIED:20221028T133238Z
UID:553-1667242800-1667255400@berniemai.de
SUMMARY:Bernie Moderation :: Poetenstammtisch
DESCRIPTION:Am 31. Oktober treten auf: \nSabine Faast – Liedermacherin\nDie Isarschiffer – bayerisches Musikkabarett\nKatharina Kubsch – Lieder am Klavier\nBoris Ruge – bluesiger Liedermacher\nRobert Wildfeuer – Folk Singer\nModeration: Bernie Maisberger \n 
URL:http://berniemai.de/event/bernie-moderation-poetenstammtisch/
END:VEVENT
END:VCALENDAR