BEGIN:VCALENDAR
VERSION:2.0
PRODID:-//Bernie Maisberger - ECPv5.14.1//NONSGML v1.0//EN
CALSCALE:GREGORIAN
METHOD:PUBLISH
X-WR-CALNAME:Bernie Maisberger
X-ORIGINAL-URL:http://berniemai.de
X-WR-CALDESC:Veranstaltungen für Bernie Maisberger
REFRESH-INTERVAL;VALUE=DURATION:PT1H
X-Robots-Tag:noindex
X-PUBLISHED-TTL:PT1H
BEGIN:VTIMEZONE
TZID:Europe/Berlin
BEGIN:DAYLIGHT
TZOFFSETFROM:+0100
TZOFFSETTO:+0200
TZNAME:CEST
DTSTART:20220327T010000
END:DAYLIGHT
BEGIN:STANDARD
TZOFFSETFROM:+0200
TZOFFSETTO:+0100
TZNAME:CET
DTSTART:20221030T010000
END:STANDARD
END:VTIMEZONE
BEGIN:VEVENT
DTSTART;TZID=Europe/Berlin:20220701T190000
DTEND;TZID=Europe/Berlin:20220701T220000
DTSTAMP:20260424T023646
CREATED:20220511T182330Z
LAST-MODIFIED:20220511T182405Z
UID:531-1656702000-1656712800@berniemai.de
SUMMARY:Bernie mit OM :: Hochstrasser See
DESCRIPTION:https://hochstrassersee.eu/
URL:http://berniemai.de/event/bernie-mit-om-hochstrasser-see/
END:VEVENT
BEGIN:VEVENT
DTSTART;TZID=Europe/Berlin:20220708T200000
DTEND;TZID=Europe/Berlin:20220708T200000
DTSTAMP:20260424T023646
CREATED:20220405T153527Z
LAST-MODIFIED:20220405T210131Z
UID:149-1657310400-1657310400@berniemai.de
SUMMARY:Bernie mit IRXN :: Sontheim Dampfsäg
DESCRIPTION:Westerheimer Str. 10\nD-87776 Sontheim (Schwaben) \nhttp://www.dampfsaeg.de/
URL:http://berniemai.de/event/bernie-mit-irxn-sontheim-dampfsaeg/
END:VEVENT
BEGIN:VEVENT
DTSTART;TZID=Europe/Berlin:20220710T140000
DTEND;TZID=Europe/Berlin:20220710T170000
DTSTAMP:20260424T023646
CREATED:20220517T160033Z
LAST-MODIFIED:20220517T160033Z
UID:536-1657461600-1657472400@berniemai.de
SUMMARY:Bernie & Two Faces :: Benefiz Tierheim
DESCRIPTION:Am Tierheim 1\n84543 Winhöring \n14:00 – ca. 17 Uhr
URL:http://berniemai.de/event/bernie-two-faces-benefiz-tierheim/
END:VEVENT
BEGIN:VEVENT
DTSTART;TZID=Europe/Berlin:20220723T150000
DTEND;TZID=Europe/Berlin:20220723T183000
DTSTAMP:20260424T023646
CREATED:20220425T075811Z
LAST-MODIFIED:20220425T075811Z
UID:528-1658588400-1658601000@berniemai.de
SUMMARY:Bernie Solo :: Kulturspaziergang
DESCRIPTION:Nähere Infos folgen noch.
URL:http://berniemai.de/event/bernie-solo-kulturspaziergang/
END:VEVENT
BEGIN:VEVENT
DTSTART;TZID=Europe/Berlin:20220729T190000
DTEND;TZID=Europe/Berlin:20220729T220000
DTSTAMP:20260424T023646
CREATED:20220511T182649Z
LAST-MODIFIED:20220511T182649Z
UID:534-1659121200-1659132000@berniemai.de
SUMMARY:Bernie mit IRXN :: Dießen
DESCRIPTION:Private Veranstaltung
URL:http://berniemai.de/event/bernie-mit-irxn-diessen/
END:VEVENT
BEGIN:VEVENT
DTSTART;TZID=Europe/Berlin:20220730T190000
DTEND;TZID=Europe/Berlin:20220730T230000
DTSTAMP:20260424T023646
CREATED:20220405T153632Z
LAST-MODIFIED:20220405T210204Z
UID:151-1659207600-1659222000@berniemai.de
SUMMARY:Bernie mit IRXN :: Gauting Forst Kasten
DESCRIPTION:Forsthaus Kasten\nzw. Neuried und Gauting\nDE-82131 Gauting \nhttps://www.forst-kasten.de/
URL:http://berniemai.de/event/bernie-mit-irxn-gauting-forst-kasten/
END:VEVENT
END:VCALENDAR