BEGIN:VCALENDAR
VERSION:2.0
PRODID:-//Bernie Maisberger - ECPv5.14.1//NONSGML v1.0//EN
CALSCALE:GREGORIAN
METHOD:PUBLISH
X-WR-CALNAME:Bernie Maisberger
X-ORIGINAL-URL:http://berniemai.de
X-WR-CALDESC:Veranstaltungen für Bernie Maisberger
REFRESH-INTERVAL;VALUE=DURATION:PT1H
X-Robots-Tag:noindex
X-PUBLISHED-TTL:PT1H
BEGIN:VTIMEZONE
TZID:Europe/Berlin
BEGIN:DAYLIGHT
TZOFFSETFROM:+0100
TZOFFSETTO:+0200
TZNAME:CEST
DTSTART:20220327T010000
END:DAYLIGHT
BEGIN:STANDARD
TZOFFSETFROM:+0200
TZOFFSETTO:+0100
TZNAME:CET
DTSTART:20221030T010000
END:STANDARD
END:VTIMEZONE
BEGIN:VEVENT
DTSTART;TZID=Europe/Berlin:20220507T180000
DTEND;TZID=Europe/Berlin:20220507T213000
DTSTAMP:20260424T051430
CREATED:20220405T205539Z
LAST-MODIFIED:20220405T205613Z
UID:263-1651946400-1651959000@berniemai.de
SUMMARY:Bernie mit IRXN :: Wiesenfelden: Geschlossene Veranstaltung
DESCRIPTION:Private Veranstaltung – nur geladene Gäste
URL:http://berniemai.de/event/bernie-mit-irxn-wiesenfelden-geschlossene-veranstaltung-2/
END:VEVENT
BEGIN:VEVENT
DTSTART;TZID=Europe/Berlin:20220514T160000
DTEND;TZID=Europe/Berlin:20220514T180000
DTSTAMP:20260424T051430
CREATED:20220405T205112Z
LAST-MODIFIED:20220405T205112Z
UID:260-1652544000-1652551200@berniemai.de
SUMMARY:BERNIE mit IRXN :: Selb: Mediaval Solidaritäts Festival
DESCRIPTION:Festivalgelände: Auf dem Goldberg\nD-95100 Selb\n(Für Navis: Kreuzung Franz-Heinrich-Straße/ Wunsiedler Straße) \nhttps://mediaval-solidaritaets-festival.eu/
URL:http://berniemai.de/event/bernie-mit-irxn-selb-mediaval-solidaritaets-festival-2/
END:VEVENT
BEGIN:VEVENT
DTSTART;TZID=Europe/Berlin:20220520T203000
DTEND;TZID=Europe/Berlin:20220520T223000
DTSTAMP:20260424T051430
CREATED:20220405T153005Z
LAST-MODIFIED:20220405T205802Z
UID:139-1653078600-1653085800@berniemai.de
SUMMARY:Bernie mit IRXN :: Herrieden Deocar-Markt
DESCRIPTION:Deocarplatz\nD-91567 Herrieden
URL:http://berniemai.de/event/bernie-mit-irxn-herrieden-deocar-markt/
END:VEVENT
BEGIN:VEVENT
DTSTART;TZID=Europe/Berlin:20220529T180000
DTEND;TZID=Europe/Berlin:20220529T220000
DTSTAMP:20260424T051430
CREATED:20220405T143502Z
LAST-MODIFIED:20220405T143502Z
UID:120-1653847200-1653861600@berniemai.de
SUMMARY:Bernie Solo – Schaumschläger Vereinsheim Schwabing
DESCRIPTION:https://vereinsheim.net/event/16187/
URL:http://berniemai.de/event/bernie-solo-schaumschlaeger-vereinsheim-schwabing/
END:VEVENT
BEGIN:VEVENT
DTSTART;TZID=Europe/Berlin:20220530T190000
DTEND;TZID=Europe/Berlin:20220530T230000
DTSTAMP:20260424T051430
CREATED:20220407T143938Z
LAST-MODIFIED:20220407T143938Z
UID:453-1653937200-1653951600@berniemai.de
SUMMARY:Bernie Solo :: Poetenstammtisch
DESCRIPTION:Im Fraunhofer/München
URL:http://berniemai.de/event/bernie-solo-poetenstammtisch/
END:VEVENT
END:VCALENDAR