BEGIN:VCALENDAR
VERSION:2.0
PRODID:-//Bernie Maisberger - ECPv5.14.1//NONSGML v1.0//EN
CALSCALE:GREGORIAN
METHOD:PUBLISH
X-WR-CALNAME:Bernie Maisberger
X-ORIGINAL-URL:http://berniemai.de
X-WR-CALDESC:Veranstaltungen für Bernie Maisberger
REFRESH-INTERVAL;VALUE=DURATION:PT1H
X-Robots-Tag:noindex
X-PUBLISHED-TTL:PT1H
BEGIN:VTIMEZONE
TZID:Europe/Berlin
BEGIN:DAYLIGHT
TZOFFSETFROM:+0100
TZOFFSETTO:+0200
TZNAME:CEST
DTSTART:20250330T010000
END:DAYLIGHT
BEGIN:STANDARD
TZOFFSETFROM:+0200
TZOFFSETTO:+0100
TZNAME:CET
DTSTART:20251026T010000
END:STANDARD
END:VTIMEZONE
BEGIN:VEVENT
DTSTART;TZID=Europe/Berlin:20250830T190000
DTEND;TZID=Europe/Berlin:20250830T210000
DTSTAMP:20260419T180141
CREATED:20250227T081721Z
LAST-MODIFIED:20250227T092716Z
UID:1149-1756580400-1756587600@berniemai.de
SUMMARY:Bernie & FEIA! :: Bucentaur Kulturcafé Stranberg
DESCRIPTION:Bucentaur Kulturcafé im Bürgerpark\, Dampfschiffstr. 6\,  Starnberg (Café ist auf Google Maps zu finden)
URL:http://berniemai.de/event/bernie-feia-bucentaur-kulturcafe-stranberg/
END:VEVENT
END:VCALENDAR