BEGIN:VCALENDAR
VERSION:2.0
PRODID:-//Bernie Maisberger - ECPv5.14.1//NONSGML v1.0//EN
CALSCALE:GREGORIAN
METHOD:PUBLISH
X-WR-CALNAME:Bernie Maisberger
X-ORIGINAL-URL:http://berniemai.de
X-WR-CALDESC:Veranstaltungen für Bernie Maisberger
REFRESH-INTERVAL;VALUE=DURATION:PT1H
X-Robots-Tag:noindex
X-PUBLISHED-TTL:PT1H
BEGIN:VTIMEZONE
TZID:Europe/Berlin
BEGIN:DAYLIGHT
TZOFFSETFROM:+0100
TZOFFSETTO:+0200
TZNAME:CEST
DTSTART:20250330T010000
END:DAYLIGHT
BEGIN:STANDARD
TZOFFSETFROM:+0200
TZOFFSETTO:+0100
TZNAME:CET
DTSTART:20251026T010000
END:STANDARD
END:VTIMEZONE
BEGIN:VEVENT
DTSTART;TZID=Europe/Berlin:20250802T080000
DTEND;TZID=Europe/Berlin:20250810T170000
DTSTAMP:20260419T180217
CREATED:20250113T164727Z
LAST-MODIFIED:20250113T164727Z
UID:1117-1754121600-1754845200@berniemai.de
SUMMARY:Bernie ::  European Juggling Convention Arnhem 2025
DESCRIPTION:
URL:http://berniemai.de/event/bernie-european-juggling-convention-arnhem-2025/
END:VEVENT
END:VCALENDAR