BEGIN:VCALENDAR
VERSION:2.0
PRODID:-//Bernie Maisberger - ECPv5.14.1//NONSGML v1.0//EN
CALSCALE:GREGORIAN
METHOD:PUBLISH
X-WR-CALNAME:Bernie Maisberger
X-ORIGINAL-URL:http://berniemai.de
X-WR-CALDESC:Veranstaltungen für Bernie Maisberger
REFRESH-INTERVAL;VALUE=DURATION:PT1H
X-Robots-Tag:noindex
X-PUBLISHED-TTL:PT1H
BEGIN:VTIMEZONE
TZID:Europe/Berlin
BEGIN:DAYLIGHT
TZOFFSETFROM:+0100
TZOFFSETTO:+0200
TZNAME:CEST
DTSTART:20240331T010000
END:DAYLIGHT
BEGIN:STANDARD
TZOFFSETFROM:+0200
TZOFFSETTO:+0100
TZNAME:CET
DTSTART:20241027T010000
END:STANDARD
END:VTIMEZONE
BEGIN:VEVENT
DTSTART;TZID=Europe/Berlin:20241130T120000
DTEND;TZID=Europe/Berlin:20241130T200000
DTSTAMP:20260420T080134
CREATED:20241129T091551Z
LAST-MODIFIED:20241129T092331Z
UID:997-1732968000-1732996800@berniemai.de
SUMMARY:Bernie & Caro Feuerfee :: Haderner Winterzauber
DESCRIPTION:Haderner BIO – Brauerei in München ::  \n12-20Uhr Glühbar\, Hofladen\, kleiner Markt und Festbetrieb\, \n12Uhr Ozapft’is an der Glühbar mit Haderner Festbier; \n14Uhr Nikolaus-Besuch; \n16Uhr Stelzenlauf; Merowin der Zauberer \n19Uhr Feuershow. Eintritt frei. Bei jedem Wetter.
URL:http://berniemai.de/event/bernie-caro-feuerfee-haderner-winterzauber/
END:VEVENT
END:VCALENDAR