BEGIN:VCALENDAR
VERSION:2.0
PRODID:-//Bernie Maisberger - ECPv5.14.1//NONSGML v1.0//EN
CALSCALE:GREGORIAN
METHOD:PUBLISH
X-WR-CALNAME:Bernie Maisberger
X-ORIGINAL-URL:http://berniemai.de
X-WR-CALDESC:Veranstaltungen für Bernie Maisberger
REFRESH-INTERVAL;VALUE=DURATION:PT1H
X-Robots-Tag:noindex
X-PUBLISHED-TTL:PT1H
BEGIN:VTIMEZONE
TZID:Europe/Berlin
BEGIN:DAYLIGHT
TZOFFSETFROM:+0100
TZOFFSETTO:+0200
TZNAME:CEST
DTSTART:20240331T010000
END:DAYLIGHT
BEGIN:STANDARD
TZOFFSETFROM:+0200
TZOFFSETTO:+0100
TZNAME:CET
DTSTART:20241027T010000
END:STANDARD
END:VTIMEZONE
BEGIN:VEVENT
DTSTART;TZID=Europe/Berlin:20240725T183000
DTEND;TZID=Europe/Berlin:20240725T223000
DTSTAMP:20260422T154626
CREATED:20240503T122325Z
LAST-MODIFIED:20240503T122325Z
UID:824-1721932200-1721946600@berniemai.de
SUMMARY:Bernie & OM :: Glacht um Acht
DESCRIPTION:Wirtshaus am Hart\n\nSudetendeutschestraße 40\n80937 München
URL:http://berniemai.de/event/bernie-om-glacht-um-acht/
END:VEVENT
END:VCALENDAR