BEGIN:VCALENDAR
VERSION:2.0
PRODID:-//Bernie Maisberger - ECPv5.14.1//NONSGML v1.0//EN
CALSCALE:GREGORIAN
METHOD:PUBLISH
X-WR-CALNAME:Bernie Maisberger
X-ORIGINAL-URL:http://berniemai.de
X-WR-CALDESC:Veranstaltungen für Bernie Maisberger
REFRESH-INTERVAL;VALUE=DURATION:PT1H
X-Robots-Tag:noindex
X-PUBLISHED-TTL:PT1H
BEGIN:VTIMEZONE
TZID:Europe/Berlin
BEGIN:DAYLIGHT
TZOFFSETFROM:+0100
TZOFFSETTO:+0200
TZNAME:CEST
DTSTART:20240331T010000
END:DAYLIGHT
BEGIN:STANDARD
TZOFFSETFROM:+0200
TZOFFSETTO:+0100
TZNAME:CET
DTSTART:20241027T010000
END:STANDARD
END:VTIMEZONE
BEGIN:VEVENT
DTSTART;TZID=Europe/Berlin:20240704T200000
DTEND;TZID=Europe/Berlin:20240704T213000
DTSTAMP:20260422T153854
CREATED:20240322T132750Z
LAST-MODIFIED:20240322T132803Z
UID:819-1720123200-1720128600@berniemai.de
SUMMARY:Bernie & OM :: Pockinger Kunst und Kulturnacht
DESCRIPTION:
URL:http://berniemai.de/event/bernie-om-pockinger-kunst-und-kulturnacht/
END:VEVENT
END:VCALENDAR