BEGIN:VCALENDAR
VERSION:2.0
PRODID:-//Bernie Maisberger - ECPv5.14.1//NONSGML v1.0//EN
CALSCALE:GREGORIAN
METHOD:PUBLISH
X-WR-CALNAME:Bernie Maisberger
X-ORIGINAL-URL:http://berniemai.de
X-WR-CALDESC:Veranstaltungen für Bernie Maisberger
REFRESH-INTERVAL;VALUE=DURATION:PT1H
X-Robots-Tag:noindex
X-PUBLISHED-TTL:PT1H
BEGIN:VTIMEZONE
TZID:Europe/Berlin
BEGIN:DAYLIGHT
TZOFFSETFROM:+0100
TZOFFSETTO:+0200
TZNAME:CEST
DTSTART:20240331T010000
END:DAYLIGHT
BEGIN:STANDARD
TZOFFSETFROM:+0200
TZOFFSETTO:+0100
TZNAME:CET
DTSTART:20241027T010000
END:STANDARD
END:VTIMEZONE
BEGIN:VEVENT
DTSTART;TZID=Europe/Berlin:20240615T190000
DTEND;TZID=Europe/Berlin:20240615T220000
DTSTAMP:20260422T172659
CREATED:20240214T135849Z
LAST-MODIFIED:20240214T162402Z
UID:799-1718478000-1718488800@berniemai.de
SUMMARY:Bernie& Irxn :: Gimplkeller Wasserburg
DESCRIPTION:Tränkgasse 1\n83512 Wasserburg am Inn \nTelefon: 0176/73875953\nE-Mail: info@kulturkreis-wasserburg.de
URL:http://berniemai.de/event/bernie-irxn-gimplkeller-wasserburg/
END:VEVENT
END:VCALENDAR