BEGIN:VCALENDAR
VERSION:2.0
PRODID:-//Bernie Maisberger - ECPv5.14.1//NONSGML v1.0//EN
CALSCALE:GREGORIAN
METHOD:PUBLISH
X-WR-CALNAME:Bernie Maisberger
X-ORIGINAL-URL:http://berniemai.de
X-WR-CALDESC:Veranstaltungen für Bernie Maisberger
REFRESH-INTERVAL;VALUE=DURATION:PT1H
X-Robots-Tag:noindex
X-PUBLISHED-TTL:PT1H
BEGIN:VTIMEZONE
TZID:Europe/Berlin
BEGIN:DAYLIGHT
TZOFFSETFROM:+0100
TZOFFSETTO:+0200
TZNAME:CEST
DTSTART:20230326T010000
END:DAYLIGHT
BEGIN:STANDARD
TZOFFSETFROM:+0200
TZOFFSETTO:+0100
TZNAME:CET
DTSTART:20231029T010000
END:STANDARD
END:VTIMEZONE
BEGIN:VEVENT
DTSTART;TZID=Europe/Berlin:20231027T190000
DTEND;TZID=Europe/Berlin:20231027T220000
DTSTAMP:20260423T050639
CREATED:20230321T165951Z
LAST-MODIFIED:20230321T165951Z
UID:646-1698433200-1698444000@berniemai.de
SUMMARY:Bernie Solo :: Grafing Stadthalle
DESCRIPTION:VIER IM TURM 2023 „Katz im Sack!“ –\nÜBERRASCHUNGS SHOW\nTurmstube – Grafing\nJahnstraße 13\n85567 Grafing
URL:http://berniemai.de/event/bernie-solo-grafing-stadthalle/
END:VEVENT
END:VCALENDAR