BEGIN:VCALENDAR
VERSION:2.0
PRODID:-//Bernie Maisberger - ECPv5.14.1//NONSGML v1.0//EN
CALSCALE:GREGORIAN
METHOD:PUBLISH
X-WR-CALNAME:Bernie Maisberger
X-ORIGINAL-URL:http://berniemai.de
X-WR-CALDESC:Veranstaltungen für Bernie Maisberger
REFRESH-INTERVAL;VALUE=DURATION:PT1H
X-Robots-Tag:noindex
X-PUBLISHED-TTL:PT1H
BEGIN:VTIMEZONE
TZID:Europe/Berlin
BEGIN:DAYLIGHT
TZOFFSETFROM:+0100
TZOFFSETTO:+0200
TZNAME:CEST
DTSTART:20230326T010000
END:DAYLIGHT
BEGIN:STANDARD
TZOFFSETFROM:+0200
TZOFFSETTO:+0100
TZNAME:CET
DTSTART:20231029T010000
END:STANDARD
END:VTIMEZONE
BEGIN:VEVENT
DTSTART;TZID=Europe/Berlin:20231021T193000
DTEND;TZID=Europe/Berlin:20231021T230000
DTSTAMP:20260423T050636
CREATED:20230114T095326Z
LAST-MODIFIED:20230626T073421Z
UID:607-1697916600-1697929200@berniemai.de
SUMMARY:Bernie & IRXN :: Beim John\, Obing
DESCRIPTION:Kleinkunstbühne “Zur Post” Beim John\nWasserburger Str. 1\n83119 Obing \nTel. 08624 2206\nFax. 08624 2232\nE-Mail: info@john-obing.de
URL:http://berniemai.de/event/bernie-irxn-4/
END:VEVENT
END:VCALENDAR