BEGIN:VCALENDAR
VERSION:2.0
PRODID:-//Bernie Maisberger - ECPv5.14.1//NONSGML v1.0//EN
CALSCALE:GREGORIAN
METHOD:PUBLISH
X-WR-CALNAME:Bernie Maisberger
X-ORIGINAL-URL:http://berniemai.de
X-WR-CALDESC:Veranstaltungen für Bernie Maisberger
REFRESH-INTERVAL;VALUE=DURATION:PT1H
X-Robots-Tag:noindex
X-PUBLISHED-TTL:PT1H
BEGIN:VTIMEZONE
TZID:Europe/Berlin
BEGIN:DAYLIGHT
TZOFFSETFROM:+0100
TZOFFSETTO:+0200
TZNAME:CEST
DTSTART:20230326T010000
END:DAYLIGHT
BEGIN:STANDARD
TZOFFSETFROM:+0200
TZOFFSETTO:+0100
TZNAME:CET
DTSTART:20231029T010000
END:STANDARD
END:VTIMEZONE
BEGIN:VEVENT
DTSTART;TZID=Europe/Berlin:20230420T193000
DTEND;TZID=Europe/Berlin:20230420T230000
DTSTAMP:20260423T142527
CREATED:20221203T112530Z
LAST-MODIFIED:20221203T112530Z
UID:583-1682019000-1682031600@berniemai.de
SUMMARY:Bernie Solo :: Mixed Show Kult9
DESCRIPTION:Musik und Kleinkunstabend im Kult9 \nhttps://www.oba-muenchen.de/angebote/angebote-im-kult9
URL:http://berniemai.de/event/bernie-solo-mixed-show-kult9/
END:VEVENT
END:VCALENDAR