BEGIN:VCALENDAR
VERSION:2.0
PRODID:-//Bernie Maisberger - ECPv5.14.1//NONSGML v1.0//EN
CALSCALE:GREGORIAN
METHOD:PUBLISH
X-WR-CALNAME:Bernie Maisberger
X-ORIGINAL-URL:http://berniemai.de
X-WR-CALDESC:Veranstaltungen für Bernie Maisberger
REFRESH-INTERVAL;VALUE=DURATION:PT1H
X-Robots-Tag:noindex
X-PUBLISHED-TTL:PT1H
BEGIN:VTIMEZONE
TZID:Europe/Berlin
BEGIN:DAYLIGHT
TZOFFSETFROM:+0100
TZOFFSETTO:+0200
TZNAME:CEST
DTSTART:20230326T010000
END:DAYLIGHT
BEGIN:STANDARD
TZOFFSETFROM:+0200
TZOFFSETTO:+0100
TZNAME:CET
DTSTART:20231029T010000
END:STANDARD
END:VTIMEZONE
BEGIN:VEVENT
DTSTART;TZID=Europe/Berlin:20230415T203000
DTEND;TZID=Europe/Berlin:20230415T233000
DTSTAMP:20260423T142547
CREATED:20221028T134052Z
LAST-MODIFIED:20230322T074459Z
UID:556-1681590600-1681601400@berniemai.de
SUMMARY:Bernie & OM :: Hide Out
DESCRIPTION:https://www.hideout-muenchen.de/ \nVolkartstrasse 22 – 80634 München – Öffnungszeiten: Dienstag bis Donnerstag\, 20:00 – 01:00 Uhr\, Freitag & Samstag 20:00 – 02:00 Uhr \n 
URL:http://berniemai.de/event/bernie-om/
END:VEVENT
END:VCALENDAR