BEGIN:VCALENDAR
VERSION:2.0
PRODID:-//Bernie Maisberger - ECPv5.14.1//NONSGML v1.0//EN
CALSCALE:GREGORIAN
METHOD:PUBLISH
X-WR-CALNAME:Bernie Maisberger
X-ORIGINAL-URL:http://berniemai.de
X-WR-CALDESC:Veranstaltungen für Bernie Maisberger
REFRESH-INTERVAL;VALUE=DURATION:PT1H
X-Robots-Tag:noindex
X-PUBLISHED-TTL:PT1H
BEGIN:VTIMEZONE
TZID:Europe/Berlin
BEGIN:DAYLIGHT
TZOFFSETFROM:+0100
TZOFFSETTO:+0200
TZNAME:CEST
DTSTART:20230326T010000
END:DAYLIGHT
BEGIN:STANDARD
TZOFFSETFROM:+0200
TZOFFSETTO:+0100
TZNAME:CET
DTSTART:20231029T010000
END:STANDARD
END:VTIMEZONE
BEGIN:VEVENT
DTSTART;TZID=Europe/Berlin:20230306T183000
DTEND;TZID=Europe/Berlin:20230306T230000
DTSTAMP:20260423T164115
CREATED:20220405T143628Z
LAST-MODIFIED:20221208T072554Z
UID:122-1678127400-1678143600@berniemai.de
SUMMARY:Bernie & OM :: Kaleidoskop München
DESCRIPTION:Einlass : 18 Uhr – Beginn: 20 Uhr / Eintritt frei \ninfo@wirtshaus-am-hart.de\n0 89 / 37 77 96 02 \nIm Wirtshaus am Hart\, Sudetendeutsche Straße 40\, 80937 München
URL:http://berniemai.de/event/bernie-om-kaleidoskop-muenchen/
END:VEVENT
END:VCALENDAR