BEGIN:VCALENDAR
VERSION:2.0
PRODID:-//Bernie Maisberger - ECPv5.14.1//NONSGML v1.0//EN
CALSCALE:GREGORIAN
METHOD:PUBLISH
X-WR-CALNAME:Bernie Maisberger
X-ORIGINAL-URL:http://berniemai.de
X-WR-CALDESC:Veranstaltungen für Bernie Maisberger
REFRESH-INTERVAL;VALUE=DURATION:PT1H
X-Robots-Tag:noindex
X-PUBLISHED-TTL:PT1H
BEGIN:VTIMEZONE
TZID:Europe/Berlin
BEGIN:DAYLIGHT
TZOFFSETFROM:+0100
TZOFFSETTO:+0200
TZNAME:CEST
DTSTART:20220327T010000
END:DAYLIGHT
BEGIN:STANDARD
TZOFFSETFROM:+0200
TZOFFSETTO:+0100
TZNAME:CET
DTSTART:20221030T010000
END:STANDARD
END:VTIMEZONE
BEGIN:VEVENT
DTSTART;TZID=Europe/Berlin:20220624T193000
DTEND;TZID=Europe/Berlin:20220624T223000
DTSTAMP:20260424T051301
CREATED:20220405T153350Z
LAST-MODIFIED:20220405T210027Z
UID:145-1656099000-1656109800@berniemai.de
SUMMARY:Bernie mit IRXN :: Bad Endorf Marias Kino
DESCRIPTION:Eisenbartlinger Weg 4\nD-83093 Bad Endorf \n>>> ALBUM-RELEASE <<< \nhttps://www.marias-kino.de/
URL:http://berniemai.de/event/bernie-mit-irxn-bad-endorf-marias-kino/
END:VEVENT
END:VCALENDAR